BEGIN:VCALENDAR
VERSION:2.0
PRODID:-//American Cocker Deutschland//NONSGML kigkonsult.se iCalcreator 2.41.92//
CALSCALE:GREGORIAN
METHOD:PUBLISH
UID:39356465-3136-4936-b139-616462336262
X-WR-CALNAME:iCagenda
X-WR-CALDESC:Event Management Extension for Joomla!
X-WR-RELCALID:3E26604A-50F4-4449-8B3E-E4F4932D05B5
X-WR-TIMEZONE:UTC
BEGIN:VTIMEZONE
TZID:UTC
END:VTIMEZONE
BEGIN:VEVENT
UID:61613465-3565-4135-b638-303739316162
DTSTAMP:20260420T100544Z
CATEGORIES:CACIB
CLASS:PUBLIC
DESCRIPTION;ALTREP="CID:<FFFF__=0ABBE548DFE235B58f9e8a93d@coffeebean.com>":
 Sonderleitung: Richter: \n1. Meldeschluss 2. Meldeschluss 3. Meldeschluss 
 \nMeldeportal:https://www.onlinedogshows.eu/de/Adresse:Messe Dortmund GmbH
 Rheinlanddamm 20044139 Dortmund
DTSTART:20260508T231900Z
DTEND:20260508T231900Z
GEO:00;0
LOCATION:
ORGANIZER:
SEQUENCE:1
SUMMARY:VDH-Europasieger
TRANSP:OPAQUE
URL:https://american-cocker.de/index.php/acs-action/showcalendar/6-vdh-euro
 pasieger/2026-05-08-23-19
END:VEVENT
END:VCALENDAR
