BEGIN:VCALENDAR
VERSION:2.0
PRODID:-//American Cocker Deutschland//NONSGML kigkonsult.se iCalcreator 2.41.92//
CALSCALE:GREGORIAN
METHOD:PUBLISH
UID:31353831-3766-4935-a462-316162656634
X-WR-CALNAME:iCagenda
X-WR-CALDESC:Event Management Extension for Joomla!
X-WR-RELCALID:3E26604A-50F4-4449-8B3E-E4F4932D05B5
X-WR-TIMEZONE:UTC
BEGIN:VTIMEZONE
TZID:UTC
END:VTIMEZONE
BEGIN:VEVENT
UID:30313334-6164-4266-b539-306266376433
DTSTAMP:20260422T093547Z
CATEGORIES:CACIB
CLASS:PUBLIC
DESCRIPTION;ALTREP="CID:<FFFF__=0ABBE548DFE235B58f9e8a93d@coffeebean.com>":
 Sonderleitung: Spaniel Club Deutschland e.V.Richter: Wolfgang Eickert\, De
 utschland1. Meldeschluss: 2. Meldeschluss: Meldeportal: https://vdh-weser-
 ems.de/ira-lingen\nAdresse:EmslandhallenLindenstraße 24a49808 Lingen
DTSTART:20260426T223700Z
DTEND:20260426T223700Z
GEO:00;0
LOCATION:
ORGANIZER:
SEQUENCE:1
SUMMARY:IRA Lingen
TRANSP:OPAQUE
URL:https://american-cocker.de/index.php/acs-action/showcalendar/3-lingen/2
 026-04-26-22-37
END:VEVENT
END:VCALENDAR
